BEGIN:VCALENDAR
VERSION:2.0
PRODID:-//eventon.com NONSGML v1.0//EN
CALSCALE:GREGORIAN
METHOD:PUBLISH
BEGIN:VEVENT
UID:69e59dbdebfff
DTSTAMP:20260420T033005Z
DTSTART:20260323T090000Z
DTEND:20260323T130000Z
LOCATION:R10LabMad Entrenamiento Natural Baños de Montemayor 6
SUMMARY:Taller de movilidad articular
DESCRIPTION:Taller de movilidad articular\nhttps://entrenamientonatural.com
 /?post_type=ajde_events&p=2127
URL:https://entrenamientonatural.com/?post_type=ajde_events&p=2127
END:VEVENT
BEGIN:VEVENT
UID:69e59dbdec448
DTSTAMP:20260420T033005Z
DTSTART:20260703
DTEND:20260704
LOCATION:
SUMMARY:Summer Camp R10: Neuroentrenamiento\,  AnimalFlow\,  Naturaleza y Movilidad Avanzada
DESCRIPTION:Summer Camp R10: Neuroentrenamiento\,  AnimalFlow\,  Naturaleza
  y Movilidad Avanzada\nhttps://entrenamientonatural.com/Eventos/2169/
URL:https://entrenamientonatural.com/Eventos/2169/
END:VEVENT
BEGIN:VEVENT
UID:69e59dbdec66d
DTSTAMP:20260420T033005Z
DTSTART:20260314T093000Z
DTEND:20260226T230000Z
LOCATION:R10LabMad Entrenamiento Natural Baños de Montemayor 6
SUMMARY:Seminario de Animal Flow: Nivel Iniciación en R10Lab Madrid (Copy)
DESCRIPTION:Seminario de Animal Flow: Nivel Iniciación en R10Lab Madrid (C
 opy)\nhttps://entrenamientonatural.com/Eventos/seminario-de-animal-flow-niv
 el-iniciacion-en-r10lab-madrid-copy/
URL:https://entrenamientonatural.com/Eventos/seminario-de-animal-flow-nivel-iniciacion-en-r10lab-madrid-copy/
END:VEVENT
BEGIN:VEVENT
UID:69e59dbdec86c
DTSTAMP:20260420T033005Z
DTSTART:20260206T230000Z
DTEND:20260207T130000Z
LOCATION:R10LabMad Entrenamiento Natural Baños de Montemayor 6
SUMMARY:Taller de movilidad articular Hombros
DESCRIPTION:Taller de movilidad articular Hombros\nhttps://entrenamientonat
 ural.com/Eventos/taller-de-movilidad-articular-hombros/
URL:https://entrenamientonatural.com/Eventos/taller-de-movilidad-articular-hombros/
END:VEVENT
BEGIN:VEVENT
UID:69e59dbdeca58
DTSTAMP:20260420T033005Z
DTSTART:20260207T100000Z
DTEND:20260207T000000Z
LOCATION:R10LabMad Entrenamiento Natural Baños de Montemayor 6
SUMMARY:Taller de movilidad articular caderas
DESCRIPTION:Taller de movilidad articular caderas\nhttps://entrenamientonat
 ural.com/Eventos/taller-de-movilidad-articular-caderas/
URL:https://entrenamientonatural.com/Eventos/taller-de-movilidad-articular-caderas/
END:VEVENT
BEGIN:VEVENT
UID:69e59dbdecc54
DTSTAMP:20260420T033005Z
DTSTART:20260131T090000Z
DTEND:20260130T230000Z
LOCATION:R10LabMad Entrenamiento Natural Baños de Montemayor 6
SUMMARY:Seminario de Animal Flow: Nivel Iniciación en R10Lab Madrid
DESCRIPTION:Seminario de Animal Flow: Nivel Iniciación en R10Lab Madrid\nh
 ttps://entrenamientonatural.com/Eventos/seminario-de-animal-flow-nivel-inic
 iacion-en-r10lab-madrid/
URL:https://entrenamientonatural.com/Eventos/seminario-de-animal-flow-nivel-iniciacion-en-r10lab-madrid/
END:VEVENT
END:VCALENDAR